BEGIN:VCALENDAR
VERSION:2.0
PRODID:-//Slackpacking the Karoo - ECPv6.15.20//NONSGML v1.0//EN
CALSCALE:GREGORIAN
METHOD:PUBLISH
X-WR-CALNAME:Slackpacking the Karoo
X-ORIGINAL-URL:https://slackpackingthekaroo.co.za
X-WR-CALDESC:Events for Slackpacking the Karoo
REFRESH-INTERVAL;VALUE=DURATION:PT1H
X-Robots-Tag:noindex
X-PUBLISHED-TTL:PT1H
BEGIN:VTIMEZONE
TZID:Africa/Johannesburg
BEGIN:STANDARD
TZOFFSETFROM:+0200
TZOFFSETTO:+0200
TZNAME:SAST
DTSTART:20230101T000000
END:STANDARD
END:VTIMEZONE
BEGIN:VEVENT
DTSTART;VALUE=DATE:20251109
DTEND;VALUE=DATE:20251115
DTSTAMP:20260420T133535
CREATED:20240421T190945Z
LAST-MODIFIED:20240421T190945Z
UID:725-1762646400-1763164799@slackpackingthekaroo.co.za
SUMMARY:Nieu-Bethesda Camino: Group Wildebeest
DESCRIPTION:
URL:https://slackpackingthekaroo.co.za/event/nieu-bethesda-camino-group-wildebeest/
END:VEVENT
BEGIN:VEVENT
DTSTART;VALUE=DATE:20251102
DTEND;VALUE=DATE:20251108
DTSTAMP:20260420T133535
CREATED:20240421T190838Z
LAST-MODIFIED:20240421T190838Z
UID:723-1762041600-1762559999@slackpackingthekaroo.co.za
SUMMARY:Nieu-Bethesda Camino: Group Sugarbird
DESCRIPTION:
URL:https://slackpackingthekaroo.co.za/event/nieu-bethesda-camino-group-sugarbird/
END:VEVENT
BEGIN:VEVENT
DTSTART;VALUE=DATE:20251026
DTEND;VALUE=DATE:20251101
DTSTAMP:20260420T133535
CREATED:20240421T190722Z
LAST-MODIFIED:20240421T190722Z
UID:721-1761436800-1761955199@slackpackingthekaroo.co.za
SUMMARY:Nieu-Bethesda Camino: Group Springbuck
DESCRIPTION:
URL:https://slackpackingthekaroo.co.za/event/nieu-bethesda-camino-group-springbuck/
END:VEVENT
BEGIN:VEVENT
DTSTART;VALUE=DATE:20251019
DTEND;VALUE=DATE:20251025
DTSTAMP:20260420T133535
CREATED:20240421T190558Z
LAST-MODIFIED:20240421T190558Z
UID:719-1760832000-1761350399@slackpackingthekaroo.co.za
SUMMARY:Nieu-Bethesda Camino: Group Rino
DESCRIPTION:
URL:https://slackpackingthekaroo.co.za/event/nieu-bethesda-camino-group-rino/
END:VEVENT
BEGIN:VEVENT
DTSTART;VALUE=DATE:20251012
DTEND;VALUE=DATE:20251018
DTSTAMP:20260420T133535
CREATED:20240421T185555Z
LAST-MODIFIED:20240421T190339Z
UID:717-1760227200-1760745599@slackpackingthekaroo.co.za
SUMMARY:Nieu-Bethesda Camino: Group Rabbit
DESCRIPTION:
URL:https://slackpackingthekaroo.co.za/event/nieu-bethesda-camino-group-rabbit/
END:VEVENT
BEGIN:VEVENT
DTSTART;VALUE=DATE:20250928
DTEND;VALUE=DATE:20251004
DTSTAMP:20260420T133535
CREATED:20240421T185429Z
LAST-MODIFIED:20240421T185429Z
UID:714-1759017600-1759535999@slackpackingthekaroo.co.za
SUMMARY:Nieu-Bethesda Camino: Group Protea
DESCRIPTION:
URL:https://slackpackingthekaroo.co.za/event/nieu-bethesda-camino-group-protea/
END:VEVENT
BEGIN:VEVENT
DTSTART;VALUE=DATE:20250921
DTEND;VALUE=DATE:20250927
DTSTAMP:20260420T133535
CREATED:20240421T185336Z
LAST-MODIFIED:20240421T185336Z
UID:712-1758412800-1758931199@slackpackingthekaroo.co.za
SUMMARY:Nieu-Bethesda Camino: Group Ostrich
DESCRIPTION:
URL:https://slackpackingthekaroo.co.za/event/nieu-bethesda-camino-group-ostrich/
END:VEVENT
BEGIN:VEVENT
DTSTART;VALUE=DATE:20250914
DTEND;VALUE=DATE:20250920
DTSTAMP:20260420T133535
CREATED:20240421T185214Z
LAST-MODIFIED:20240421T185214Z
UID:710-1757808000-1758326399@slackpackingthekaroo.co.za
SUMMARY:Nieu-Bethesda Camino: Group Naboom
DESCRIPTION:
URL:https://slackpackingthekaroo.co.za/event/nieu-bethesda-camino-group-naboom/
END:VEVENT
BEGIN:VEVENT
DTSTART;VALUE=DATE:20250907
DTEND;VALUE=DATE:20250913
DTSTAMP:20260420T133535
CREATED:20240421T185102Z
LAST-MODIFIED:20240421T185102Z
UID:708-1757203200-1757721599@slackpackingthekaroo.co.za
SUMMARY:Nieu-Bethesda Camino: Group Mousebird
DESCRIPTION:
URL:https://slackpackingthekaroo.co.za/event/nieu-bethesda-camino-group-mousebird/
END:VEVENT
BEGIN:VEVENT
DTSTART;VALUE=DATE:20250831
DTEND;VALUE=DATE:20250906
DTSTAMP:20260420T133535
CREATED:20240421T185006Z
LAST-MODIFIED:20240421T185006Z
UID:706-1756598400-1757116799@slackpackingthekaroo.co.za
SUMMARY:Nieu-Bethesda Camino: Group Lizzard
DESCRIPTION:
URL:https://slackpackingthekaroo.co.za/event/nieu-bethesda-camino-group-lizzard/
END:VEVENT
BEGIN:VEVENT
DTSTART;VALUE=DATE:20250824
DTEND;VALUE=DATE:20250830
DTSTAMP:20260420T133535
CREATED:20240421T183451Z
LAST-MODIFIED:20240421T183451Z
UID:704-1755993600-1756511999@slackpackingthekaroo.co.za
SUMMARY:Nieu-Bethesda Camino: Group Lion
DESCRIPTION:
URL:https://slackpackingthekaroo.co.za/event/nieu-bethesda-camino-group-lion/
END:VEVENT
BEGIN:VEVENT
DTSTART;VALUE=DATE:20250615
DTEND;VALUE=DATE:20250621
DTSTAMP:20260420T133535
CREATED:20240421T183342Z
LAST-MODIFIED:20240421T183342Z
UID:702-1749945600-1750463999@slackpackingthekaroo.co.za
SUMMARY:Nieu-Bethesda Camino: Group Leopard
DESCRIPTION:
URL:https://slackpackingthekaroo.co.za/event/nieu-bethesda-camino-group-leopard/
END:VEVENT
BEGIN:VEVENT
DTSTART;VALUE=DATE:20250608
DTEND;VALUE=DATE:20250614
DTSTAMP:20260420T133535
CREATED:20240421T183243Z
LAST-MODIFIED:20240421T183243Z
UID:700-1749340800-1749859199@slackpackingthekaroo.co.za
SUMMARY:Nieu-Bethesda Camino: Group Hyena
DESCRIPTION:
URL:https://slackpackingthekaroo.co.za/event/nieu-bethesda-camino-group-hyena/
END:VEVENT
BEGIN:VEVENT
DTSTART;VALUE=DATE:20250601
DTEND;VALUE=DATE:20250607
DTSTAMP:20260420T133535
CREATED:20240421T183141Z
LAST-MODIFIED:20240421T183141Z
UID:698-1748736000-1749254399@slackpackingthekaroo.co.za
SUMMARY:Nieu-Bethesda Camino: Group Gemsbok
DESCRIPTION:
URL:https://slackpackingthekaroo.co.za/event/nieu-bethesda-camino-group-gemsbok/
END:VEVENT
BEGIN:VEVENT
DTSTART;TZID=Africa/Johannesburg:20250504T080000
DTEND;TZID=Africa/Johannesburg:20250509T170000
DTSTAMP:20260420T133535
CREATED:20240421T183016Z
LAST-MODIFIED:20240603T131944Z
UID:695-1746345600-1746810000@slackpackingthekaroo.co.za
SUMMARY:Nieu-Bethesda Camino: Group Gecko
DESCRIPTION:
URL:https://slackpackingthekaroo.co.za/event/nieu-bethesda-camino-group-gecko/
END:VEVENT
BEGIN:VEVENT
DTSTART;VALUE=DATE:20250427
DTEND;VALUE=DATE:20250503
DTSTAMP:20260420T133535
CREATED:20240421T182522Z
LAST-MODIFIED:20240603T132411Z
UID:691-1745712000-1746230399@slackpackingthekaroo.co.za
SUMMARY:Nieu-Bethesda Camino: Group Elephant
DESCRIPTION:
URL:https://slackpackingthekaroo.co.za/event/nieu-bethesda-camino-group-elephant/
END:VEVENT
BEGIN:VEVENT
DTSTART;TZID=Africa/Johannesburg:20250420T080000
DTEND;TZID=Africa/Johannesburg:20250425T170000
DTSTAMP:20260420T133535
CREATED:20240603T130946Z
LAST-MODIFIED:20240603T131234Z
UID:809-1745136000-1745600400@slackpackingthekaroo.co.za
SUMMARY:Nieu-Bethesda Camino: Group Eland
DESCRIPTION:
URL:https://slackpackingthekaroo.co.za/event/group-eland/
END:VEVENT
BEGIN:VEVENT
DTSTART;VALUE=DATE:20250406
DTEND;VALUE=DATE:20250412
DTSTAMP:20260420T133535
CREATED:20240421T182418Z
LAST-MODIFIED:20240421T182418Z
UID:689-1743897600-1744415999@slackpackingthekaroo.co.za
SUMMARY:Nieu-Bethesda Camino: Group Cheetah
DESCRIPTION:
URL:https://slackpackingthekaroo.co.za/event/nieu-bethesda-camino-group-cheetah/
END:VEVENT
BEGIN:VEVENT
DTSTART;VALUE=DATE:20250330
DTEND;VALUE=DATE:20250405
DTSTAMP:20260420T133535
CREATED:20240421T182254Z
LAST-MODIFIED:20240506T180856Z
UID:687-1743292800-1743811199@slackpackingthekaroo.co.za
SUMMARY:Nieu-Bethesda Camino: Group Canary
DESCRIPTION:
URL:https://slackpackingthekaroo.co.za/event/nieu-bethesda-camino-group-canary/
END:VEVENT
BEGIN:VEVENT
DTSTART;TZID=Africa/Johannesburg:20250323T080000
DTEND;TZID=Africa/Johannesburg:20250328T170000
DTSTAMP:20260420T133535
CREATED:20240421T182130Z
LAST-MODIFIED:20240421T182130Z
UID:684-1742716800-1743181200@slackpackingthekaroo.co.za
SUMMARY:Nieu-Bethesda Camino: Group Bulbul
DESCRIPTION:
URL:https://slackpackingthekaroo.co.za/event/nieu-bethesda-camino-group-bulbul/
END:VEVENT
BEGIN:VEVENT
DTSTART;VALUE=DATE:20250316
DTEND;VALUE=DATE:20250322
DTSTAMP:20260420T133535
CREATED:20240421T181955Z
LAST-MODIFIED:20240421T182505Z
UID:681-1742083200-1742601599@slackpackingthekaroo.co.za
SUMMARY:Nieu-Bethesda Camino: Group Buffalo
DESCRIPTION:
URL:https://slackpackingthekaroo.co.za/event/nieu-bethesda-camino-group-buffulo/
ATTACH;FMTTYPE=image/jpeg:https://slackpackingthekaroo.co.za/wp-content/uploads/2024/04/Copy-of-Buffalo.jpg
END:VEVENT
BEGIN:VEVENT
DTSTART;VALUE=DATE:20250309
DTEND;VALUE=DATE:20250315
DTSTAMP:20260420T133535
CREATED:20240421T181813Z
LAST-MODIFIED:20240421T182112Z
UID:678-1741478400-1741996799@slackpackingthekaroo.co.za
SUMMARY:Nieu-Bethesda Camino: Group Bitterbos
DESCRIPTION:
URL:https://slackpackingthekaroo.co.za/event/nieu-bethesda-camino-group-bitterbos/
ATTACH;FMTTYPE=image/jpeg:https://slackpackingthekaroo.co.za/wp-content/uploads/2024/04/Chrysocoma-ciliata-bush-kb-ALN.jpg
END:VEVENT
BEGIN:VEVENT
DTSTART;VALUE=DATE:20250302
DTEND;VALUE=DATE:20250308
DTSTAMP:20260420T133535
CREATED:20240421T181705Z
LAST-MODIFIED:20240421T182013Z
UID:676-1740873600-1741391999@slackpackingthekaroo.co.za
SUMMARY:Nieu-Bethesda Camino: Group Acacia
DESCRIPTION:
URL:https://slackpackingthekaroo.co.za/event/nieu-bethesda-camino-group-acacia/
ATTACH;FMTTYPE=image/jpeg:https://slackpackingthekaroo.co.za/wp-content/uploads/2024/04/karroo_spines_flowers.jpg
END:VEVENT
BEGIN:VEVENT
DTSTART;VALUE=DATE:20241104
DTEND;VALUE=DATE:20241110
DTSTAMP:20260420T133535
CREATED:20240421T181113Z
LAST-MODIFIED:20240421T181113Z
UID:672-1730678400-1731196799@slackpackingthekaroo.co.za
SUMMARY:Nieu-Bethesda Camino: Group Vlakvark
DESCRIPTION:
URL:https://slackpackingthekaroo.co.za/event/nieu-bethesda-camino-group-vlakvark/
END:VEVENT
BEGIN:VEVENT
DTSTART;VALUE=DATE:20241027
DTEND;VALUE=DATE:20241102
DTSTAMP:20260420T133535
CREATED:20240421T180415Z
LAST-MODIFIED:20240421T181837Z
UID:670-1729987200-1730505599@slackpackingthekaroo.co.za
SUMMARY:Nieu-Bethesda Camino: Group Monkey
DESCRIPTION:
URL:https://slackpackingthekaroo.co.za/event/nieu-bethesda-camino-group-monkey/
ATTACH;FMTTYPE=image/jpeg:https://slackpackingthekaroo.co.za/wp-content/uploads/2024/04/ververt-monkey-mt-zebra-national-park-south-africa-copy.jpg
END:VEVENT
BEGIN:VEVENT
DTSTART;VALUE=DATE:20241017
DTEND;VALUE=DATE:20241023
DTSTAMP:20260420T133535
CREATED:20240421T175854Z
LAST-MODIFIED:20240603T134029Z
UID:667-1729123200-1729641599@slackpackingthekaroo.co.za
SUMMARY:Nieu-Bethesda Camino: Group Cape Fox
DESCRIPTION:
URL:https://slackpackingthekaroo.co.za/event/nieu-bethesda-camino-group-cape-fox/
END:VEVENT
BEGIN:VEVENT
DTSTART;VALUE=DATE:20241010
DTEND;VALUE=DATE:20241016
DTSTAMP:20260420T133535
CREATED:20240421T175220Z
LAST-MODIFIED:20240603T134128Z
UID:662-1728518400-1729036799@slackpackingthekaroo.co.za
SUMMARY:Nieu-Bethesda Camino: Group Jackal
DESCRIPTION:
URL:https://slackpackingthekaroo.co.za/event/nieu-bethesda-camino-group-jackal/
END:VEVENT
BEGIN:VEVENT
DTSTART;VALUE=DATE:20240922
DTEND;VALUE=DATE:20240928
DTSTAMP:20260420T133535
CREATED:20240421T175032Z
LAST-MODIFIED:20240421T175414Z
UID:660-1726963200-1727481599@slackpackingthekaroo.co.za
SUMMARY:Nieu-Bethesda Camino: Group Meerkat
DESCRIPTION:
URL:https://slackpackingthekaroo.co.za/event/nieu-bethesda-camino-group-meerkat/
ATTACH;FMTTYPE=image/jpeg:https://slackpackingthekaroo.co.za/wp-content/uploads/2024/04/How-to-see-meerkats-in-South-Africa-2-1024x683-1.jpg
END:VEVENT
BEGIN:VEVENT
DTSTART;VALUE=DATE:20240915
DTEND;VALUE=DATE:20240921
DTSTAMP:20260420T133535
CREATED:20240421T174444Z
LAST-MODIFIED:20240421T175301Z
UID:652-1726358400-1726876799@slackpackingthekaroo.co.za
SUMMARY:Nieu-Bethesda Camino: Group Duiker
DESCRIPTION:
URL:https://slackpackingthekaroo.co.za/event/nieu-bethesda-camino-group-duiker/
ATTACH;FMTTYPE=image/jpeg:https://slackpackingthekaroo.co.za/wp-content/uploads/2024/04/9ac3e6e151369b99ac8376539c792a91.jpg
END:VEVENT
BEGIN:VEVENT
DTSTART;VALUE=DATE:20240908
DTEND;VALUE=DATE:20240914
DTSTAMP:20260420T133535
CREATED:20240421T174128Z
LAST-MODIFIED:20240421T175411Z
UID:649-1725753600-1726271999@slackpackingthekaroo.co.za
SUMMARY:Nieu-Bethesda Camino: Group Korhaan
DESCRIPTION:
URL:https://slackpackingthekaroo.co.za/event/nieu-bethesda-camino-group-korhaan/
ATTACH;FMTTYPE=image/jpeg:https://slackpackingthekaroo.co.za/wp-content/uploads/2024/04/640.jpeg
END:VEVENT
END:VCALENDAR